BEGIN:VCALENDAR
VERSION:2.0
PRODID:-//eventon.com NONSGML v1.0//EN
CALSCALE:GREGORIAN
METHOD:PUBLISH
BEGIN:VEVENT
UID:69e74e62c600c
DTSTAMP:20260421T101602Z
DTSTART:20230910T120000Z
DTEND:20230910T160000Z
LOCATION:Die Wachsfabrik Industriestraße 170\,  50999 Köln
SUMMARY:Goodbye Summer
DESCRIPTION:Beim mini Designmarkt kommen auf dem alten Fabrikgelände kreat
 ives Handwerk\,  nachhaltiges Design und viele soziale Start-Ups zusammen. 
 Grüne Labels und DesignerInnen\,  HandwerkerInnen und KünstlerInnen präs
 entieren Ihre Handmade- und Vintageunikate aus den Bereichen Mode\,  Schmuc
 k\,  Papeterie &amp; Illustration\,  Fotografie\,  Home Dekor\,  Naturkosme
 tik\,  Keramik\,  und vieles mehr. Feine Bio-Genussmanufakturen bieten kös
 tliches Street-[..]\nhttps://manufact-event.de/events/goodbye-summer/
URL:https://manufact-event.de/events/goodbye-summer/
END:VEVENT
END:VCALENDAR